BEGIN:VCALENDAR
VERSION:2.0
PRODID:-//Waldinsel Records - Label - Konzerte - Booking - ECPv6.15.20//NONSGML v1.0//EN
CALSCALE:GREGORIAN
METHOD:PUBLISH
X-ORIGINAL-URL:https://waldinsel.com
X-WR-CALDESC:Veranstaltungen für Waldinsel Records - Label - Konzerte - Booking
REFRESH-INTERVAL;VALUE=DURATION:PT1H
X-Robots-Tag:noindex
X-PUBLISHED-TTL:PT1H
BEGIN:VTIMEZONE
TZID:Europe/Berlin
BEGIN:DAYLIGHT
TZOFFSETFROM:+0100
TZOFFSETTO:+0200
TZNAME:CEST
DTSTART:20250330T010000
END:DAYLIGHT
BEGIN:STANDARD
TZOFFSETFROM:+0200
TZOFFSETTO:+0100
TZNAME:CET
DTSTART:20251026T010000
END:STANDARD
BEGIN:DAYLIGHT
TZOFFSETFROM:+0100
TZOFFSETTO:+0200
TZNAME:CEST
DTSTART:20260329T010000
END:DAYLIGHT
BEGIN:STANDARD
TZOFFSETFROM:+0200
TZOFFSETTO:+0100
TZNAME:CET
DTSTART:20261025T010000
END:STANDARD
BEGIN:DAYLIGHT
TZOFFSETFROM:+0100
TZOFFSETTO:+0200
TZNAME:CEST
DTSTART:20270328T010000
END:DAYLIGHT
BEGIN:STANDARD
TZOFFSETFROM:+0200
TZOFFSETTO:+0100
TZNAME:CET
DTSTART:20271031T010000
END:STANDARD
END:VTIMEZONE
BEGIN:VEVENT
DTSTART;TZID=Europe/Berlin:20260501T143000
DTEND;TZID=Europe/Berlin:20260501T180000
DTSTAMP:20260424T075257
CREATED:20260330T114034Z
LAST-MODIFIED:20260330T120446Z
UID:10303-1777645800-1777658400@waldinsel.com
SUMMARY:Lasterkultur unterstützt: Erster Mai Demo von Wer hat der gibt - Geld ist da! Ran an die Reichen!
DESCRIPTION:
URL:https://waldinsel.com/event/lasterkultur-unterstuetzt-erster-mai-demo-von-wer-hat-der-gibt-geld-ist-da-ran-an-die-reichen/
ATTACH;FMTTYPE=image/jpeg:https://waldinsel.com/wp-content/uploads/photo_2026-03-30_13-39-26.jpg
END:VEVENT
BEGIN:VEVENT
DTSTART;VALUE=DATE:20260509
DTEND;VALUE=DATE:20260510
DTSTAMP:20260424T075257
CREATED:20260409T093533Z
LAST-MODIFIED:20260409T093533Z
UID:10317-1778284800-1778371199@waldinsel.com
SUMMARY:Lasterkultur unterstützt: Asphaltsprenger Stadtnatur Festival
DESCRIPTION:
URL:https://waldinsel.com/event/lasterkultur-unterstuetzt-asphaltsprenger-stadtnatur-festival-2/
LOCATION:Alter Recyclinghof / Alster-Bille-Elbe PARKS und Park am HOCHWASSERBASSIN\, Bullerdeich 6\, Hamburg\, 20537
CATEGORIES:Festival,Lasterkonzert,Lasterkultur
ATTACH;FMTTYPE=image/jpeg:https://waldinsel.com/wp-content/uploads/asphaltsprenger2026_motiv_datum.jpg
END:VEVENT
BEGIN:VEVENT
DTSTART;TZID=Europe/Berlin:20260522T140000
DTEND;TZID=Europe/Berlin:20260522T230000
DTSTAMP:20260424T075257
CREATED:20260128T154308Z
LAST-MODIFIED:20260128T154738Z
UID:9946-1779458400-1779490800@waldinsel.com
SUMMARY:Kulturelle Widerstandspartie 2026 - Gorleben
DESCRIPTION:Benefiz-Festival mit Live-Musik auf zwei Bühnen\, Workshops\, Infoständen\, Theater und Kinderprogramm. \nDer Eintritt ist frei\, um Spenden wird gebeten. \nLine-Up: tba \nMehr Infos unter: https://kulturelle-widerstandspartie.de/
URL:https://waldinsel.com/event/kulturelle-widerstandspartie-2026-gorleben/
LOCATION:An der Beluga Gorleben\, Gorleben
CATEGORIES:Bands,Festival,Konzert,Lasterkonzert,Lasterkultur,Sempf
ATTACH;FMTTYPE=image/jpeg:https://waldinsel.com/wp-content/uploads/gorleben-banner.jpg
END:VEVENT
BEGIN:VEVENT
DTSTART;VALUE=DATE:20260529
DTEND;VALUE=DATE:20260530
DTSTAMP:20260424T075257
CREATED:20260225T194330Z
LAST-MODIFIED:20260410T131318Z
UID:10216-1780012800-1780099199@waldinsel.com
SUMMARY:Sempf @ Lübeck Campus Open Air
DESCRIPTION:
URL:https://waldinsel.com/event/luebeck-campus-open-air/
CATEGORIES:Festival,Konzert,Sempf
END:VEVENT
BEGIN:VEVENT
DTSTART;TZID=Europe/Berlin:20260530T200000
DTEND;TZID=Europe/Berlin:20260530T223000
DTSTAMP:20260424T075257
CREATED:20260123T114708Z
LAST-MODIFIED:20260217T111522Z
UID:9924-1780171200-1780180200@waldinsel.com
SUMMARY:Sempf - Releasekonzert
DESCRIPTION:Sempf sind vier Jungs aus Hamburg\, die „semiprofessionell“ nie als Ausrede\, sondern als Haltung verstanden haben. Was als augenzwinkernde Selbstbeschreibung begann\, ist längst zu einem Versprechen geworden: kompromissloser Pop-Punk\, der lieber aneckt als sich anpasst. Und wenn Sempf die Bühne betreten\, wird aus diesem Versprechen schnell Bewegung – im Kopf und im Moshpit. \nMit unkonventionellem Pop-Punk zwischen Melodie und Moshpit verbinden sie Energie mit Haltung. Treibende Drums\, scharfkantige Riffs und Texte\, die zwischen Selbstironie\, Gesellschaftskritik und klarer politischer Kante pendeln\, machen ihre Shows zu einem kollektiven Ventil – laut\, nahbar und immer achtsam. \nAm 29.05. erscheint die neue EP „Ein Hoch auf die Eine (Firma mit dem Haus am See)“. Die fünf Songs bewegen sich zwischen Kleinstadt-Klischees und antifaschistischer Hymne\, zwischen tanzbarer Entlarvung falscher Progressivität und ironischer Abrechnung mit deutscher Pop-Gemütlichkeit. Sempf schaffen es dabei\, Ernst und Humor nicht als Gegensätze zu begreifen\, sondern als gemeinsamen Antrieb. \nSempf fordern dich heraus – zum Tanzen\, zum Denken\, zum Widersprechen. Moshpit offen. Haltung klar. \n  \nTickets: https://www.tixforgigs.com/Event/71809
URL:https://waldinsel.com/event/sempf-releasekonzert/
LOCATION:BETTY (ehem. Headcrash)\, Hamburger Berg 13\, Hamburg\, 20359
CATEGORIES:Konzert,Sempf
ATTACH;FMTTYPE=image/jpeg:https://waldinsel.com/wp-content/uploads/sempf-banner.jpg
END:VEVENT
BEGIN:VEVENT
DTSTART;VALUE=DATE:20260829
DTEND;VALUE=DATE:20260830
DTSTAMP:20260424T075257
CREATED:20260128T154931Z
LAST-MODIFIED:20260128T154931Z
UID:9952-1787961600-1788047999@waldinsel.com
SUMMARY:Demorave 2026
DESCRIPTION:
URL:https://waldinsel.com/event/demorave-2026/
CATEGORIES:Lasterkultur
END:VEVENT
END:VCALENDAR