BEGIN:VCALENDAR
VERSION:2.0
PRODID:-//Waldinsel Records - Label - Konzerte - Booking - ECPv6.15.20//NONSGML v1.0//EN
CALSCALE:GREGORIAN
METHOD:PUBLISH
X-ORIGINAL-URL:https://waldinsel.com
X-WR-CALDESC:Veranstaltungen für Waldinsel Records - Label - Konzerte - Booking
REFRESH-INTERVAL;VALUE=DURATION:PT1H
X-Robots-Tag:noindex
X-PUBLISHED-TTL:PT1H
BEGIN:VTIMEZONE
TZID:Europe/Berlin
BEGIN:DAYLIGHT
TZOFFSETFROM:+0100
TZOFFSETTO:+0200
TZNAME:CEST
DTSTART:20220327T010000
END:DAYLIGHT
BEGIN:STANDARD
TZOFFSETFROM:+0200
TZOFFSETTO:+0100
TZNAME:CET
DTSTART:20221030T010000
END:STANDARD
BEGIN:DAYLIGHT
TZOFFSETFROM:+0100
TZOFFSETTO:+0200
TZNAME:CEST
DTSTART:20230326T010000
END:DAYLIGHT
BEGIN:STANDARD
TZOFFSETFROM:+0200
TZOFFSETTO:+0100
TZNAME:CET
DTSTART:20231029T010000
END:STANDARD
BEGIN:DAYLIGHT
TZOFFSETFROM:+0100
TZOFFSETTO:+0200
TZNAME:CEST
DTSTART:20240331T010000
END:DAYLIGHT
BEGIN:STANDARD
TZOFFSETFROM:+0200
TZOFFSETTO:+0100
TZNAME:CET
DTSTART:20241027T010000
END:STANDARD
END:VTIMEZONE
BEGIN:VEVENT
DTSTART;VALUE=DATE:20230915
DTEND;VALUE=DATE:20230916
DTSTAMP:20260421T021309
CREATED:20230906T142122Z
LAST-MODIFIED:20230906T142122Z
UID:5879-1694736000-1694822399@waldinsel.com
SUMMARY:John Winston Berta - 80s TIME MACHINE
DESCRIPTION:80s TIME MACHINE   |   20:00 \n(80s Cover\, DE) \n  \n  \nAFTERSHOW \n\nMR CONFUSE \n(80s / 90s / 00er Hip Hop / RnB / Dance Classics)
URL:https://waldinsel.com/event/john-winston-berta-80s-time-machine/
LOCATION:Freundlich + Kompetent\, Hamburger Straße 13\, Hamburg\, 22083\, Germany
CATEGORIES:Bands,John
ATTACH;FMTTYPE=image/png:https://waldinsel.com/wp-content/uploads/FK.png
END:VEVENT
END:VCALENDAR