BEGIN:VCALENDAR
VERSION:2.0
PRODID:-//Waldinsel Records - Label - Konzerte - Booking - ECPv6.15.20//NONSGML v1.0//EN
CALSCALE:GREGORIAN
METHOD:PUBLISH
X-ORIGINAL-URL:https://waldinsel.com
X-WR-CALDESC:Veranstaltungen für Waldinsel Records - Label - Konzerte - Booking
REFRESH-INTERVAL;VALUE=DURATION:PT1H
X-Robots-Tag:noindex
X-PUBLISHED-TTL:PT1H
BEGIN:VTIMEZONE
TZID:Europe/Berlin
BEGIN:DAYLIGHT
TZOFFSETFROM:+0100
TZOFFSETTO:+0200
TZNAME:CEST
DTSTART:20230326T010000
END:DAYLIGHT
BEGIN:STANDARD
TZOFFSETFROM:+0200
TZOFFSETTO:+0100
TZNAME:CET
DTSTART:20231029T010000
END:STANDARD
BEGIN:DAYLIGHT
TZOFFSETFROM:+0100
TZOFFSETTO:+0200
TZNAME:CEST
DTSTART:20240331T010000
END:DAYLIGHT
BEGIN:STANDARD
TZOFFSETFROM:+0200
TZOFFSETTO:+0100
TZNAME:CET
DTSTART:20241027T010000
END:STANDARD
BEGIN:DAYLIGHT
TZOFFSETFROM:+0100
TZOFFSETTO:+0200
TZNAME:CEST
DTSTART:20250330T010000
END:DAYLIGHT
BEGIN:STANDARD
TZOFFSETFROM:+0200
TZOFFSETTO:+0100
TZNAME:CET
DTSTART:20251026T010000
END:STANDARD
END:VTIMEZONE
BEGIN:VEVENT
DTSTART;VALUE=DATE:20240517
DTEND;VALUE=DATE:20240518
DTSTAMP:20260420T164824
CREATED:20230912T160508Z
LAST-MODIFIED:20230912T160552Z
UID:5947-1715904000-1715990399@waldinsel.com
SUMMARY:FRINK - Wohnzimmer GE - Gelsenkirchen
DESCRIPTION:Das Wohnzimmer GE ist ein Ort in Gelsenkirchen für Kulturschaffende und -interessierte. In gemütlicher Atmosphäre wird hier Kultur diskutiert und praktiziert\, Neues geschaffen und Altes vertieft.
URL:https://waldinsel.com/event/frink-wohnzimmer-ge-gelsenkirchen/
LOCATION:Wohnzimmer GE\, Wilhelminenstraße 174 b\, Gelsenkirchen\, 45881\, Germany
CATEGORIES:Bands,FRINK
ATTACH;FMTTYPE=image/jpeg:https://waldinsel.com/wp-content/uploads/wohnzimmer-GE.jpg
END:VEVENT
BEGIN:VEVENT
DTSTART;VALUE=DATE:20240518
DTEND;VALUE=DATE:20240519
DTSTAMP:20260420T164824
CREATED:20230912T161052Z
LAST-MODIFIED:20230912T161232Z
UID:5953-1715990400-1716076799@waldinsel.com
SUMMARY:FRINK - Bochumer Kulturrat e. V.
DESCRIPTION:Der Bochumer Kulturrat e.V. ist ein soziokulturelles Zentrum im Bochumer Norden und hat seinen Sitz im ehemaligen Magazingebäude der Zeche Lothringen in Bochum-Gerthe.
URL:https://waldinsel.com/event/frink-bochumer-kulturrat-e-v/
LOCATION:Bochumer Kulturrat e. V.\, Lothringer Str. 36c\, Bochum\, 44805
CATEGORIES:Bands,FRINK
ATTACH;FMTTYPE=image/png:https://waldinsel.com/wp-content/uploads/Kulturrat-logo.png
END:VEVENT
BEGIN:VEVENT
DTSTART;VALUE=DATE:20240525
DTEND;VALUE=DATE:20240526
DTSTAMP:20260420T164824
CREATED:20240402T180927Z
LAST-MODIFIED:20240402T180927Z
UID:7115-1716595200-1716681599@waldinsel.com
SUMMARY:FRINK - Baracke Münster
DESCRIPTION:
URL:https://waldinsel.com/event/frink-baracke-muenster/
LOCATION:Baracke Münster\, Scharnhorststraße 106\, Münster\, 48151
CATEGORIES:Bands,FRINK
END:VEVENT
BEGIN:VEVENT
DTSTART;VALUE=DATE:20240531
DTEND;VALUE=DATE:20240601
DTSTAMP:20260420T164824
CREATED:20240402T181221Z
LAST-MODIFIED:20240402T181221Z
UID:7119-1717113600-1717199999@waldinsel.com
SUMMARY:FRINK - Lemgo Musik im Museum
DESCRIPTION:
URL:https://waldinsel.com/event/frink-lemgo-musik-im-museum/
LOCATION:Lemgo im Museum\, Lemgo
CATEGORIES:Bands,FRINK
END:VEVENT
END:VCALENDAR