BEGIN:VCALENDAR
VERSION:2.0
PRODID:-//Waldinsel Records - Label - Konzerte - Booking - ECPv6.15.20//NONSGML v1.0//EN
CALSCALE:GREGORIAN
METHOD:PUBLISH
X-WR-CALNAME:Waldinsel Records - Label - Konzerte - Booking
X-ORIGINAL-URL:https://waldinsel.com
X-WR-CALDESC:Veranstaltungen für Waldinsel Records - Label - Konzerte - Booking
REFRESH-INTERVAL;VALUE=DURATION:PT1H
X-Robots-Tag:noindex
X-PUBLISHED-TTL:PT1H
BEGIN:VTIMEZONE
TZID:Europe/Berlin
BEGIN:DAYLIGHT
TZOFFSETFROM:+0100
TZOFFSETTO:+0200
TZNAME:CEST
DTSTART:20220327T010000
END:DAYLIGHT
BEGIN:STANDARD
TZOFFSETFROM:+0200
TZOFFSETTO:+0100
TZNAME:CET
DTSTART:20221030T010000
END:STANDARD
BEGIN:DAYLIGHT
TZOFFSETFROM:+0100
TZOFFSETTO:+0200
TZNAME:CEST
DTSTART:20230326T010000
END:DAYLIGHT
BEGIN:STANDARD
TZOFFSETFROM:+0200
TZOFFSETTO:+0100
TZNAME:CET
DTSTART:20231029T010000
END:STANDARD
BEGIN:DAYLIGHT
TZOFFSETFROM:+0100
TZOFFSETTO:+0200
TZNAME:CEST
DTSTART:20240331T010000
END:DAYLIGHT
BEGIN:STANDARD
TZOFFSETFROM:+0200
TZOFFSETTO:+0100
TZNAME:CET
DTSTART:20241027T010000
END:STANDARD
END:VTIMEZONE
BEGIN:VEVENT
DTSTART;VALUE=DATE:20230921
DTEND;VALUE=DATE:20230922
DTSTAMP:20260420T082457
CREATED:20230906T145437Z
LAST-MODIFIED:20230906T145437Z
UID:5899-1695254400-1695340799@waldinsel.com
SUMMARY:Lasterkonzert - Groove connection - Regerhof\, Hamburg Bahrenfeld
DESCRIPTION:Die Flüchtlingshilfe der Luthergemeinde in Bahrenfeld\, ansässig auf dem Regerhof und im Luthergarten (Regerstraße 73\, 22761) veranstaltet in den Sommermonaten 2023 fünf kreative Abende mit Livemusik in Form von Lasterkonzerten. \nMusik verbindet! Menschen aller Nationen und jeden Alters. Das ist unsere Erfahrung – hier setzen wir an und möchten Euch einladen dabei zu sein bei unserem Groove Connection Veranstaltungsformat mit Livemusik\, Open Stage\, Perfomance\, Poetry Beiträgen und Kunst. Wer Interesse hat einen spontanen Beitrag auf der Open Stage zu leisten\, kommt bereits um 16 Uhr. Anmeldung dazu unter: fluechtlingshilfe@lutherkirche.net \nWir möchten Menschen mit und ohne Flucht – und Migrationsgeschichte\, mit und ohne finanzielle Sorgen zusammenbringen\, um gemeinsam Musik und Kunst zu machen\, Musik zu genießen und miteinander in Verbindung zu treten. \nEs wird stimmungsvoll\, handgemacht\, elektronisch\, kontrastreich\, queer\, politisch und kritisch. \nWie immer gibt es leckere Pizza aus unserer Backstube und kalte Getränke gegen Spende. \nWir freuen uns auf kreative\, bunte und laute fünf Abende mit Euch! \nDie Veranstaltungsabende finden statt donnerstags von 17.00 bis 21.00 Uhr.
URL:https://waldinsel.com/event/lasterkonzert-groove-connection-regerhof-hamburg-bahrenfeld/
LOCATION:Regerhof – Luthergemeinde Bahrenfeld – Flüchtlingshilfe\, Regerstraße 73\, Hamburg\, Hamburg\, 22761\, Deutschland
CATEGORIES:Lasterkonzert
ATTACH;FMTTYPE=image/webp:https://waldinsel.com/wp-content/uploads/GrooveConnection.webp
END:VEVENT
END:VCALENDAR