BEGIN:VCALENDAR
VERSION:2.0
PRODID:-//Waldinsel Records - Label - Konzerte - Booking - ECPv6.15.20//NONSGML v1.0//EN
CALSCALE:GREGORIAN
METHOD:PUBLISH
X-ORIGINAL-URL:https://waldinsel.com
X-WR-CALDESC:Veranstaltungen für Waldinsel Records - Label - Konzerte - Booking
REFRESH-INTERVAL;VALUE=DURATION:PT1H
X-Robots-Tag:noindex
X-PUBLISHED-TTL:PT1H
BEGIN:VTIMEZONE
TZID:Europe/Berlin
BEGIN:DAYLIGHT
TZOFFSETFROM:+0100
TZOFFSETTO:+0200
TZNAME:CEST
DTSTART:20230326T010000
END:DAYLIGHT
BEGIN:STANDARD
TZOFFSETFROM:+0200
TZOFFSETTO:+0100
TZNAME:CET
DTSTART:20231029T010000
END:STANDARD
BEGIN:DAYLIGHT
TZOFFSETFROM:+0100
TZOFFSETTO:+0200
TZNAME:CEST
DTSTART:20240331T010000
END:DAYLIGHT
BEGIN:STANDARD
TZOFFSETFROM:+0200
TZOFFSETTO:+0100
TZNAME:CET
DTSTART:20241027T010000
END:STANDARD
BEGIN:DAYLIGHT
TZOFFSETFROM:+0100
TZOFFSETTO:+0200
TZNAME:CEST
DTSTART:20250330T010000
END:DAYLIGHT
BEGIN:STANDARD
TZOFFSETFROM:+0200
TZOFFSETTO:+0100
TZNAME:CET
DTSTART:20251026T010000
END:STANDARD
END:VTIMEZONE
BEGIN:VEVENT
DTSTART;TZID=Europe/Berlin:20240926T170000
DTEND;TZID=Europe/Berlin:20240926T210000
DTSTAMP:20260420T131058
CREATED:20240502T164355Z
LAST-MODIFIED:20240515T155439Z
UID:7201-1727370000-1727384400@waldinsel.com
SUMMARY:Lasterkonzert – Regerhof Flüchtlingshilfe Bahrenfeld
DESCRIPTION:Bands: \nLuropa \nBalkan Bras
URL:https://waldinsel.com/event/lasterkonzert-regerhof-fluechtlingshilfe-bahrenfeld-4/
LOCATION:Regerhof – Luthergemeinde Bahrenfeld – Flüchtlingshilfe\, Regerstraße 73\, Hamburg\, Hamburg\, 22761\, Deutschland
CATEGORIES:Lasterkonzert
END:VEVENT
END:VCALENDAR