BEGIN:VCALENDAR
VERSION:2.0
PRODID:-//Waldinsel Records - Label - Konzerte - Booking - ECPv6.15.20//NONSGML v1.0//EN
CALSCALE:GREGORIAN
METHOD:PUBLISH
X-ORIGINAL-URL:https://waldinsel.com
X-WR-CALDESC:Veranstaltungen für Waldinsel Records - Label - Konzerte - Booking
REFRESH-INTERVAL;VALUE=DURATION:PT1H
X-Robots-Tag:noindex
X-PUBLISHED-TTL:PT1H
BEGIN:VTIMEZONE
TZID:Europe/Berlin
BEGIN:DAYLIGHT
TZOFFSETFROM:+0100
TZOFFSETTO:+0200
TZNAME:CEST
DTSTART:20220327T010000
END:DAYLIGHT
BEGIN:STANDARD
TZOFFSETFROM:+0200
TZOFFSETTO:+0100
TZNAME:CET
DTSTART:20221030T010000
END:STANDARD
BEGIN:DAYLIGHT
TZOFFSETFROM:+0100
TZOFFSETTO:+0200
TZNAME:CEST
DTSTART:20230326T010000
END:DAYLIGHT
BEGIN:STANDARD
TZOFFSETFROM:+0200
TZOFFSETTO:+0100
TZNAME:CET
DTSTART:20231029T010000
END:STANDARD
BEGIN:DAYLIGHT
TZOFFSETFROM:+0100
TZOFFSETTO:+0200
TZNAME:CEST
DTSTART:20240331T010000
END:DAYLIGHT
BEGIN:STANDARD
TZOFFSETFROM:+0200
TZOFFSETTO:+0100
TZNAME:CET
DTSTART:20241027T010000
END:STANDARD
END:VTIMEZONE
BEGIN:VEVENT
DTSTART;VALUE=DATE:20230908
DTEND;VALUE=DATE:20230909
DTSTAMP:20260422T200220
CREATED:20230906T140117Z
LAST-MODIFIED:20230906T140718Z
UID:5871-1694131200-1694217599@waldinsel.com
SUMMARY:John Winston Berta - Schulfest 25 Jahre KGS Wennigsen
DESCRIPTION:Am 08.09.2023 möchten wir das 25-jährige Bestehen der Schule und den 100. Geburtstag unserer Namensgeberin Sophie Scholl feiern. In der Zeit von 15 bis 20 Uhr erwarten Sie und Euch tolle Aktionen für einen bunten & schönen Tag. \nHier eine Übersicht: \n\nKletterturm\nKletterwand\nKistenklettern\nFliegender Teppich\nFotoaktionen\nEscape-Room\nSportspiele (Basketball\, Handball und Fußball)\nElterncafé\nFlohmarkt\nBMX-Parcours\nBobby-Car-Parcours\nStockbrot mit der Jugendfeuerwehr\nLive-Musik mit JWB`s Time Machine\nGeisterbahn\nAusstellung: Vor Ort für globale Gerechtigkeit\n…\n\nFür das leibliche Wohl ist selbstverständlich ebenfalls gesorgt. \nWir bitten Sie möglichst mit den öffentlichen Verkehrsmitteln oder mit dem Fahrrad anzureisen\, da die Parkplatzsituation begrenzt ist.
URL:https://waldinsel.com/event/john-winston-berta-schulfest-25-jahre-kgs-wennigsen/
LOCATION:KGS Wennigsen\, Bürgermeister-Klages-Platz 16\, Wennigsen (Deister)\, 30974\, Germany
CATEGORIES:Bands,John
ATTACH;FMTTYPE=image/png:https://waldinsel.com/wp-content/uploads/Schulfest.png
END:VEVENT
END:VCALENDAR