BEGIN:VCALENDAR
VERSION:2.0
PRODID:-//Waldinsel Records - Label - Konzerte - Booking - ECPv6.15.20//NONSGML v1.0//EN
CALSCALE:GREGORIAN
METHOD:PUBLISH
X-WR-CALNAME:Waldinsel Records - Label - Konzerte - Booking
X-ORIGINAL-URL:https://waldinsel.com
X-WR-CALDESC:Veranstaltungen für Waldinsel Records - Label - Konzerte - Booking
REFRESH-INTERVAL;VALUE=DURATION:PT1H
X-Robots-Tag:noindex
X-PUBLISHED-TTL:PT1H
BEGIN:VTIMEZONE
TZID:Europe/Berlin
BEGIN:DAYLIGHT
TZOFFSETFROM:+0100
TZOFFSETTO:+0200
TZNAME:CEST
DTSTART:20230326T010000
END:DAYLIGHT
BEGIN:STANDARD
TZOFFSETFROM:+0200
TZOFFSETTO:+0100
TZNAME:CET
DTSTART:20231029T010000
END:STANDARD
BEGIN:DAYLIGHT
TZOFFSETFROM:+0100
TZOFFSETTO:+0200
TZNAME:CEST
DTSTART:20240331T010000
END:DAYLIGHT
BEGIN:STANDARD
TZOFFSETFROM:+0200
TZOFFSETTO:+0100
TZNAME:CET
DTSTART:20241027T010000
END:STANDARD
BEGIN:DAYLIGHT
TZOFFSETFROM:+0100
TZOFFSETTO:+0200
TZNAME:CEST
DTSTART:20250330T010000
END:DAYLIGHT
BEGIN:STANDARD
TZOFFSETFROM:+0200
TZOFFSETTO:+0100
TZNAME:CET
DTSTART:20251026T010000
END:STANDARD
END:VTIMEZONE
BEGIN:VEVENT
DTSTART;TZID=Europe/Berlin:20240824T150000
DTEND;TZID=Europe/Berlin:20240824T220000
DTSTAMP:20260421T161229
CREATED:20240502T165013Z
LAST-MODIFIED:20240725T085106Z
UID:7204-1724511600-1724536800@waldinsel.com
SUMMARY:Waldinsel goes Sniers Hus Spektakel
DESCRIPTION:Waldinsel goes Sniers Hus Spektakel 5\nAuch in diesem Jahr lädt Waldinsel Music Support wieder zu einem einzigartigen Kulturevent für die ganze Familie im Museumsdorf Seppensen ein! \nAm 24. August 2024 öffnet das idyllische Gelände von 15:00 bis 22:00 Uhr seine Tore für ein facettenreiches Programm mit musikalischen Darbietungen auf der Oldtimer-Lasterbühne:  \nSébo startet als erster Act um 15:00 Uhr mit einem Kinderprogramm\, dabei spielt er Hip Hop\, zu dem auch Erwachsene abgehen können. \nZwischen 17:30 und 18:30 Uhr spielt Paolo Polvo melancholischen Blues und Folk.  \nAdar Alfandari begeistert von 19:00 bis 20:00 Uhr mit seiner einzigartigen Mischung aus Blues\, Folk und Rock. Er präsentiert auch neue Songs von seinem kommenden Album. Mehr Infos zu Adar findet ihr hier.  \nHighlight des Abends ist der Auftritt von Marlo Grosshardt von 20:30 – 21:30 Uhr\, der mit provokanten Texten und energiegeladenen Pop-Rhythmen momentan immer mehr Bekanntheit erreicht. Der aufstrebende Musiker hat bereits eine feste Fanbasis dank seiner Hits wie „Paradies“ oder “Mama ich hab Angst vorm Sommer”. Er hat in diesem Jahr bereits viele eigene Konzerte sowie bei der Tour der bekannten Hamburger Band “Liedfett” als Support gespielt. Wir freuen uns sehr\, ihn beim diesjährigen Waldinsel goes Sniers Hus Spektakel dabeizuhaben. \nParallel dazu erwarten Euch Ausstellungen der lokalen Künstlerinnen Alexandra Pekeler und Andrea Gogl.  \nAlexandra Pekeler zeichnet Comic-Illustrationen\, arbeitet aber auch gern mit Holz und fertigt feine Schmuckstücke an. \nAndrea Gogl malt mit Acryl auf Leinwand und arbeitet mit verschiedenen Materialien wie Holz und Draht. Als besondere Rahmung der Veranstaltung präsentiert sie ihre Werke\, die sie zur Musik der auftretenden Acts gemalt hat. \nEine breite Auswahl an Getränken sowie kulinarische Angebote runden das Erlebnis ab.  \nDie Veranstaltung wird von der Irene und Friedrich Vorwerk-Stiftung gefördert. \nTickets gibt es online (16\,50€) unter https://www.tixforgigs.com/Event/57121/ oder an der Abendkasse (18€).
URL:https://waldinsel.com/event/waldinsel-goes-sniers-hus-spektakel/
LOCATION:Sniers Hus\, Zum Mühlenteich 3\, Buchholz\, Niedersachsen\, 21244
CATEGORIES:Adar,Festival,Lasterkonzert
ATTACH;FMTTYPE=image/jpeg:https://waldinsel.com/wp-content/uploads/sniershus_05_PLAKAT_A2_420x5941mm.jpg
END:VEVENT
END:VCALENDAR